BEGIN:VCALENDAR
VERSION:2.0
PRODID:-//wp-events-plugin.com//7.2.3.1//EN
TZID:Europe/Berlin
X-WR-TIMEZONE:Europe/Berlin
BEGIN:VEVENT
UID:270@in-tauchclub.de
DTSTART;TZID=Europe/Berlin:20260321T200000
DTEND;TZID=Europe/Berlin:20260321T210000
DTSTAMP:20260129T200212Z
URL:https://in-tauchclub.de/events/geraetetraining-2-2026-03-21/
SUMMARY:Gerätetraining
DESCRIPTION:
CATEGORIES:Gerätetraining
LOCATION:Sportbad Ingolstadt\, Jahnstraße 5a\, Ingolstadt \, Bayern\, 8504
 9 \, Deutschland
X-APPLE-STRUCTURED-LOCATION;VALUE=URI;X-ADDRESS=Jahnstraße 5a\, Ingolstadt
  \, Bayern\, 85049 \, Deutschland;X-APPLE-RADIUS=100;X-TITLE=Sportbad Ingo
 lstadt:geo:0,0
END:VEVENT
BEGIN:VTIMEZONE
TZID:Europe/Berlin
X-LIC-LOCATION:Europe/Berlin
BEGIN:STANDARD
DTSTART:20251026T020000
TZOFFSETFROM:+0200
TZOFFSETTO:+0100
TZNAME:CET
END:STANDARD
END:VTIMEZONE
END:VCALENDAR