BEGIN:VCALENDAR
VERSION:2.0
PRODID:-//wp-events-plugin.com//7.2.3.1//EN
TZID:Europe/Berlin
X-WR-TIMEZONE:Europe/Berlin
BEGIN:VEVENT
UID:517@in-tauchclub.de
DTSTART;TZID=Europe/Berlin:20260320T163000
DTEND;TZID=Europe/Berlin:20260320T173000
DTSTAMP:20260320T080641Z
URL:https://in-tauchclub.de/events/jugendtag/
SUMMARY:Jugendtag
DESCRIPTION:Tagesordnungspunkte (TOP):\n\n\n 	Entgegennahme der Berichte un
 d des Kassenabschlusses der Vereinsjugendleitung\,\n 	Entlastung der Verei
 nsjugendleitung\,\n 	Beschlussfassung über vorliegende Anträge\na) Anpas
 sung der Jugendordnung des Vereins\n 	Sonstiges\n
CATEGORIES:Mitgliederversammlung
LOCATION:Bezirkssportanlage Nordost\, Wirffelstrasse 25\, Ingolstadt\, Baye
 rn\, 85055\, Deutschland
X-APPLE-STRUCTURED-LOCATION;VALUE=URI;X-ADDRESS=Wirffelstrasse 25\, Ingolst
 adt\, Bayern\, 85055\, Deutschland;X-APPLE-RADIUS=100;X-TITLE=Bezirkssport
 anlage Nordost:geo:0,0
END:VEVENT
BEGIN:VTIMEZONE
TZID:Europe/Berlin
X-LIC-LOCATION:Europe/Berlin
BEGIN:STANDARD
DTSTART:20251026T020000
TZOFFSETFROM:+0200
TZOFFSETTO:+0100
TZNAME:CET
END:STANDARD
END:VTIMEZONE
END:VCALENDAR