BEGIN:VCALENDAR
VERSION:2.0
PRODID:-//wp-events-plugin.com//7.2.3.1//EN
TZID:Europe/Berlin
X-WR-TIMEZONE:Europe/Berlin
BEGIN:VEVENT
UID:330@in-tauchclub.de
DTSTART;TZID=Europe/Berlin:20261219T190000
DTEND;TZID=Europe/Berlin:20261219T200000
DTSTAMP:20260129T200102Z
URL:https://in-tauchclub.de/events/jugendtraining-2-2026-12-19/
SUMMARY:Jugendtraining
DESCRIPTION:
CATEGORIES:Jugendtraining
LOCATION:Sportbad Ingolstadt\, Jahnstraße 5a\, Ingolstadt \, Bayern\, 8504
 9 \, Deutschland
X-APPLE-STRUCTURED-LOCATION;VALUE=URI;X-ADDRESS=Jahnstraße 5a\, Ingolstadt
  \, Bayern\, 85049 \, Deutschland;X-APPLE-RADIUS=100;X-TITLE=Sportbad Ingo
 lstadt:geo:0,0
END:VEVENT
BEGIN:VTIMEZONE
TZID:Europe/Berlin
X-LIC-LOCATION:Europe/Berlin
BEGIN:STANDARD
DTSTART:20261025T020000
TZOFFSETFROM:+0200
TZOFFSETTO:+0100
TZNAME:CET
END:STANDARD
END:VTIMEZONE
END:VCALENDAR