BEGIN:VCALENDAR
VERSION:2.0
PRODID:-//wp-events-plugin.com//7.2.3.1//EN
TZID:Europe/Berlin
X-WR-TIMEZONE:Europe/Berlin
BEGIN:VEVENT
UID:514@in-tauchclub.de
DTSTART;TZID=Europe/Berlin:20260613T190000
DTEND;TZID=Europe/Berlin:20260613T214500
DTSTAMP:20260309T193540Z
URL:https://in-tauchclub.de/events/offenes-geraetetraining-2026-06-13/
SUMMARY:Offenes Gerätetraining
DESCRIPTION:Einladung zum offenen Gerätetraining \nUnser monatliches High
 light im Trainingskalender ist unser Gerätetraining – sowohl bei unsere
 n Mitgliedern\, als auch bei allen\, die das Tauchen einmal ausprobieren w
 ollen. Um noch mehr Interessierten das "Reinschnuppern" zu ermöglichen\, 
 starten wir dieses Jahr mit unserem 1. Offenen Gerätetraining. An drei au
 feinanderfolgenden Samstagen im Juni können so viele Schnupperer wie nie 
 zuvor bei uns reinschnuppern.\n\nKommt vorbei und lernt in entspannter Atm
 osphäre wie schön der Tauchsport sein kann. Wir zeigen euch die wichtigs
 ten Handgriffe\, erklären Abläufe Schritt für Schritt und geben euch Ze
 it\, alles in eurem Tempo auszuprobieren. Fragen stellen ist ausdrücklich
  erwünscht – wir unterstützen euch gerne.\nUm die Ausrüstung braucht 
 ihr euch keine Gedanken zu machen\, die bringen wir mit.\nAlso kommt vorbe
 i\, macht mit und lernt das Tauchen in seiner reinsten Form.\nWir freuen u
 ns auf viele motivierte Teilnehmer*innen und drei tolle Trainingstage!
CATEGORIES:Gerätetraining
LOCATION:Sportbad Ingolstadt\, Jahnstraße 5a\, Ingolstadt \, Bayern\, 8504
 9 \, Deutschland
X-APPLE-STRUCTURED-LOCATION;VALUE=URI;X-ADDRESS=Jahnstraße 5a\, Ingolstadt
  \, Bayern\, 85049 \, Deutschland;X-APPLE-RADIUS=100;X-TITLE=Sportbad Ingo
 lstadt:geo:0,0
END:VEVENT
BEGIN:VTIMEZONE
TZID:Europe/Berlin
X-LIC-LOCATION:Europe/Berlin
BEGIN:DAYLIGHT
DTSTART:20260329T030000
TZOFFSETFROM:+0100
TZOFFSETTO:+0200
TZNAME:CEST
END:DAYLIGHT
END:VTIMEZONE
END:VCALENDAR