BEGIN:VCALENDAR
VERSION:2.0
PRODID:-//wp-events-plugin.com//7.2.3.1//EN
TZID:Europe/Berlin
X-WR-TIMEZONE:Europe/Berlin
BEGIN:VEVENT
UID:518@in-tauchclub.de
DTSTART;TZID=Europe/Berlin:20260320T190000
DTEND;TZID=Europe/Berlin:20260320T220000
DTSTAMP:20260320T080756Z
URL:https://in-tauchclub.de/events/ordentliche-mitgliederversammlung/
SUMMARY:Ordentliche Mitgliederversammlung
DESCRIPTION: Tagesordnungspunkte (TOP): \n\n 	Begrüßung und Feststellun
 g der ordnungsgemäßen Einberufung und der Beschlußfähigkeit durch den 
 1. Vorstand \n 	Bericht des Vorstandes durch den 1. Vorstand (Jahresrück
 blick 2025\, Ausblick 2026) \n 	Kassenbericht des Schatzmeisters \n 	Ber
 icht der Kassenprüfer \n 	Entlastung der Vorstandschaft (Vorstand\, Gesa
 mtvorstand) \n 	Beschlußfassung über vorliegende Anträge\na) Ratifizie
 rung der Änderung zur Jugendordnung gem. Anlage 2.\nb) Beschlußfassung z
 u Anträgen auf Änderungen von §§ 21 und 26 der Satzung gem. Anlage 3.
  \n 	Sonstiges\na) Statusbericht zur Webseite \n
CATEGORIES:Mitgliederversammlung
LOCATION:Bezirkssportanlage Nordost\, Wirffelstrasse 25\, Ingolstadt\, Baye
 rn\, 85055\, Deutschland
X-APPLE-STRUCTURED-LOCATION;VALUE=URI;X-ADDRESS=Wirffelstrasse 25\, Ingolst
 adt\, Bayern\, 85055\, Deutschland;X-APPLE-RADIUS=100;X-TITLE=Bezirkssport
 anlage Nordost:geo:0,0
END:VEVENT
BEGIN:VTIMEZONE
TZID:Europe/Berlin
X-LIC-LOCATION:Europe/Berlin
BEGIN:STANDARD
DTSTART:20251026T020000
TZOFFSETFROM:+0200
TZOFFSETTO:+0100
TZNAME:CET
END:STANDARD
END:VTIMEZONE
END:VCALENDAR