BEGIN:VCALENDAR
VERSION:2.0
PRODID:-//wp-events-plugin.com//7.2.3.1//EN
TZID:Europe/Berlin
X-WR-TIMEZONE:Europe/Berlin
BEGIN:VEVENT
UID:408@in-tauchclub.de
DTSTART;TZID=Europe/Berlin;VALUE=DATE:20260605
DTEND;TZID=Europe/Berlin;VALUE=DATE:20260606
DTSTAMP:20251130T150345Z
URL:https://in-tauchclub.de/events/pfingstferien-2-2026-05-26-2026-05-27-2
 026-05-28-2026-05-29-2026-05-30-2026-05-31-2026-06-01-2026-06-02-2026-06-0
 3-2026-06-04-2026-06-05/
SUMMARY:Pfingstferien
DESCRIPTION:
CATEGORIES:Schulferien
END:VEVENT
BEGIN:VTIMEZONE
TZID:Europe/Berlin
X-LIC-LOCATION:Europe/Berlin
BEGIN:DAYLIGHT
DTSTART:20260329T030000
TZOFFSETFROM:+0100
TZOFFSETTO:+0200
TZNAME:CEST
END:DAYLIGHT
END:VTIMEZONE
END:VCALENDAR