BEGIN:VCALENDAR
VERSION:2.0
PRODID:-//wp-events-plugin.com//7.2.3.1//EN
TZID:Europe/Berlin
X-WR-TIMEZONE:Europe/Berlin
BEGIN:VEVENT
UID:519@in-tauchclub.de
DTSTART;TZID=Europe/Berlin:20260418T090000
DTEND;TZID=Europe/Berlin:20260418T150000
DTSTAMP:20260320T075054Z
URL:https://in-tauchclub.de/events/ramadama-am-baggersee/
SUMMARY:Ramadama am Baggersee
DESCRIPTION:\n 	Samstag\, 18. April 2026\n 	Baggersee Ingolstadt\n 	Start/E
 nde: an unserem Clubheim\n 	Beginn: 09:00 Uhr Treffen\n 	Ende: 15:00 Uhr\n
 \nWir planen\, zusammen mit der Jugend des Kreisfischereivereins Ingolstad
 t\, den Baggersee von außen und innen von Unrat zu befreien. Dazu bekomme
 n wir Unterstützung von den Kommunalbetrieben Ingolstadt\, die Hilfsmitte
 l zur Verfügung stellen und den Abfall auf eigenen Wegen entsorgen. Am En
 de wird an unserem Clubheim eine Brotzeit gereicht.
CATEGORIES:Umwelt
LOCATION:Clubheim\, Mitterschüttweg 1\, Ingolstadt\, 85049\, Deutschland
X-APPLE-STRUCTURED-LOCATION;VALUE=URI;X-ADDRESS=Mitterschüttweg 1\, Ingols
 tadt\, 85049\, Deutschland;X-APPLE-RADIUS=100;X-TITLE=Clubheim:geo:0,0
END:VEVENT
BEGIN:VTIMEZONE
TZID:Europe/Berlin
X-LIC-LOCATION:Europe/Berlin
BEGIN:DAYLIGHT
DTSTART:20260329T030000
TZOFFSETFROM:+0100
TZOFFSETTO:+0200
TZNAME:CEST
END:DAYLIGHT
END:VTIMEZONE
END:VCALENDAR