BEGIN:VCALENDAR
VERSION:2.0
PRODID:-//wp-events-plugin.com//7.2.3.1//EN
TZID:Europe/Berlin
X-WR-TIMEZONE:Europe/Berlin
BEGIN:VEVENT
UID:442@in-tauchclub.de
DTSTART;TZID=Europe/Berlin;VALUE=DATE:20260904
DTEND;TZID=Europe/Berlin;VALUE=DATE:20260905
DTSTAMP:20251130T150508Z
URL:https://in-tauchclub.de/events/sommerferien-2-2026-08-03-2026-08-04-20
 26-08-05-2026-08-06-2026-08-07-2026-08-08-2026-08-09-2026-08-10-2026-08-11
 -2026-08-12-2026-08-13-2026-08-14-2026-08-15-2026-08-16-2026-08-17-2026-0-
 03-2026-09-04/
SUMMARY:Sommerferien
DESCRIPTION:
CATEGORIES:Schulferien
END:VEVENT
BEGIN:VTIMEZONE
TZID:Europe/Berlin
X-LIC-LOCATION:Europe/Berlin
BEGIN:DAYLIGHT
DTSTART:20260329T030000
TZOFFSETFROM:+0100
TZOFFSETTO:+0200
TZNAME:CEST
END:DAYLIGHT
END:VTIMEZONE
END:VCALENDAR